BEGIN:VCALENDAR
VERSION:2.0
PRODID:-//Mu Mbana - ECPv5.16.3.1//NONSGML v1.0//EN
CALSCALE:GREGORIAN
METHOD:PUBLISH
X-ORIGINAL-URL:https://mu-mbana.com
X-WR-CALDESC:Events for Mu Mbana
REFRESH-INTERVAL;VALUE=DURATION:PT1H
X-Robots-Tag:noindex
X-PUBLISHED-TTL:PT1H
BEGIN:VTIMEZONE
TZID:UTC
BEGIN:STANDARD
TZOFFSETFROM:+0000
TZOFFSETTO:+0000
TZNAME:UTC
DTSTART:20220101T000000
END:STANDARD
END:VTIMEZONE
BEGIN:VEVENT
DTSTART;TZID=UTC:20220408T190000
DTEND;TZID=UTC:20220408T210000
DTSTAMP:20260424T101744
CREATED:20220722T132002Z
LAST-MODIFIED:20220722T132002Z
UID:2102-1649444400-1649451600@mu-mbana.com
SUMMARY:Iñén . Centro Cultural El torito - Madrid
DESCRIPTION:The author and multi-instrumentalist Mû Mbana presents himself this Friday\, April 8\, in Madrid\, with a concert in which he collects the sounds of his native Guinea-Bissau to reinterpret them with rustic strings\, new airs and harmonies from West Africa
URL:https://mu-mbana.com/event/inen-centro-cultural-el-torito-madrid/
LOCATION:centro cultural El torito\, de Moratalaz\, Av. de Moratalaz\, 130\, Madrid\, Madrid\, 28030\, España
CATEGORIES:Concerts
ATTACH;FMTTYPE=image/jpeg:https://mu-mbana.com/wp-content/uploads/2022/07/concierto-madrid.jpeg
END:VEVENT
BEGIN:VEVENT
DTSTART;TZID=UTC:20220514T200000
DTEND;TZID=UTC:20220514T220000
DTSTAMP:20260424T101744
CREATED:20220722T135311Z
LAST-MODIFIED:20220722T141031Z
UID:2113-1652558400-1652565600@mu-mbana.com
SUMMARY:Jardins da Tiniguena - Guiné Bissau
DESCRIPTION:Mû Mbana\, Natural da ilha de Bolama\, na Guiné-Bissau\, cresceu influenciado pelos cânticos religiosos praticados pelas mulheres das etnias Brame (Mancanha) e Bijagó (Budjugu). Multi-instrumentista\, compositor e poeta\, a maturidade da sua música e os instrumentos que o acompanham são como um reflexo material da sua alma de músico e artista. O seu vasto e eclético curriculum incluí 10 discos já editados e muitos palcos de Europa\, África e América. \nO Kalmasoul Guiné-Bissau\, com o patrocínio da TINIGUENA\, apresenta Mû Mbana com IñÉN\, um trabalho onde a essência da sua voz nos transporta para um outro lugar\, profundo…onde tudo é mais suave\, sensitivo\, calmo e mágico. \nLocal: Jardim da TINIGUENA \nHora: 19H00 \nContacto para bilhetes: 245965100583 \nPreço: 3000 XOF
URL:https://mu-mbana.com/event/jardins-da-tiniguena/
LOCATION:Jardins da Tiniguena\, Av. Caetano Semedo\, Las Palmeras – Bairro de Belém\, Bissau\, Bissau\, 667
CATEGORIES:Concerts
ATTACH;FMTTYPE=image/png:https://mu-mbana.com/wp-content/uploads/2022/07/Mû-Poster-Concerto-14-maio-FINAL.png
END:VEVENT
BEGIN:VEVENT
DTSTART;TZID=UTC:20220731T220000
DTEND;TZID=UTC:20220731T233000
DTSTAMP:20260424T101744
CREATED:20220727T155619Z
LAST-MODIFIED:20220727T155647Z
UID:2362-1659304800-1659310200@mu-mbana.com
SUMMARY:What is Music 22
DESCRIPTION:Mû Mbana\, Javier Colina\, Juan Carlos Aracil y Jesús Mañeru. \nConcierto en Ciudad de Frías – Burgos \n22- 31 de Julio 2022 \na las 22:00 hs
URL:https://mu-mbana.com/event/what-is-music-22/
LOCATION:Ciudad de Frias-Burgos\, Ciudad de Frías\, Burgos\, Spain
CATEGORIES:Concerts
ATTACH;FMTTYPE=image/jpeg:https://mu-mbana.com/wp-content/uploads/2022/07/burgos.jpeg
END:VEVENT
END:VCALENDAR